

BEGIN:VCALENDAR
VERSION:2.0
PRODID:-//Kulturausschuss Gerlafingen
CALSCALE:GREGORIAN
METHOD:PUBLISH
X-WR-CALNAME:Kulturausschuss Gerlafingen
X-ORIGINAL-URL:https://kulturausschuss.ch/produkt/frank-borton-magic-without-mask-kopie/
X-WR-CALDESC:Blues &#038; Grill mit Bluedög
BEGIN:VEVENT
DTSTART:20250606T183000
DTEND:20250606T230000
SUMMARY:Blues &#038; Grill mit Bluedög
DESCRIPTION:
LOCATION:
END:VEVENT
END:VCALENDAR
