

BEGIN:VCALENDAR
VERSION:2.0
PRODID:-//Kulturausschuss Gerlafingen
CALSCALE:GREGORIAN
METHOD:PUBLISH
X-WR-CALNAME:Kulturausschuss Gerlafingen
X-ORIGINAL-URL:https://kulturausschuss.ch/produkt/patti-basler-und-philippe-kuhn-nachsitzen/
X-WR-CALDESC:PATTI BASLER UND PHILIPPE KUHN &#8211; «NACHSITZEN»
BEGIN:VEVENT
DTSTART:20201121T201500
DTEND:20201121T230000
SUMMARY:PATTI BASLER UND PHILIPPE KUHN &#8211; «NACHSITZEN»
DESCRIPTION:
LOCATION:
END:VEVENT
END:VCALENDAR
